BEGIN:VCALENDAR
VERSION:2.0
PRODID:-//OmniMagnetCalendar//EN
BEGIN:VEVENT
DTSTAMP:20190625T195740Z
STATUS:CONFIRMED
UID:psuatlanta.com687
DTSTART:20260218T000000Z
DTEND:20260218T000000Z
LOCATION:
SUMMARY:Virtual Paint Night - PSAA
DESCRIPTION:Virtual Paint Night - PSAA - Feb 17
BEGIN:VALARM
TRIGGER:-PT15M
ACTION:DISPLAY
END:VALARM
TRANSP:OPAQUE
END:VEVENT
END:VCALENDAR
